BEGIN:VCALENDAR
VERSION:2.0
PRODID:icalendar-ruby
CALSCALE:GREGORIAN
METHOD:PUBLISH
BEGIN:VEVENT
DTSTAMP:20260422T110941Z
UID:18-1460906@stjames-umchurch.org
DTSTART:20260502T120000Z
DTEND:20260502T130000Z
CLASS:PUBLIC
CREATED:20260421T113214
DESCRIPTION:The St. James United Methodist Men meet for breakfast on the fi
 rst Saturday of every month at Mary Ann's Diner\, 1 Craftsman Lane in Amhe
 rst NH. RSVP to George Fisher so he knows how many people to expect.
LAST-MODIFIED:20260421T113214
LOCATION:Mary Ann's Diner\, 1 Craftsman Lane\, Amherst\, NH
SUMMARY:Men's Breakfast
URL;VALUE=URI:https://stjames-umchurch.org/events/mens-breakfast/2026-05-02
ATTACH;FILENAME=pancakes_26556ac.jpg;FMTTYPE=image/jpeg:https://dq5pwpg1q8r
 u0.cloudfront.net/2026/04/21/15/32/14/a33b185c-15ef-4bda-badf-c4a3d269db64
 /pancakes_26556ac.jpg
END:VEVENT
END:VCALENDAR
